BEGIN:VCALENDAR
VERSION:2.0
PRODID:-//Ziber2013/
CALSCALE:GREGORIAN
BEGIN:VEVENT
UID:250187@https://www.derank-schagen.nl
DTSTART:20260703T120000
DTEND:20260703T235900
SUMMARY:Leerlingen om 12.00 vrij
DESCRIPTION:
LOCATION:rkbs De Rank\, Iepenlaan 54\, 1741 TG Schagen
SEQUENCE:0
DTSTAMP:20260420T105024
END:VEVENT
END:VCALENDAR
